BEGIN:VCALENDAR
VERSION:2.0
PRODID:-//Sage and Plow - ECPv6.15.20//NONSGML v1.0//EN
CALSCALE:GREGORIAN
METHOD:PUBLISH
X-ORIGINAL-URL:https://sageandplow.com
X-WR-CALDESC:Events for Sage and Plow
REFRESH-INTERVAL;VALUE=DURATION:PT1H
X-Robots-Tag:noindex
X-PUBLISHED-TTL:PT1H
BEGIN:VTIMEZONE
TZID:UTC
BEGIN:STANDARD
TZOFFSETFROM:+0000
TZOFFSETTO:+0000
TZNAME:UTC
DTSTART:20230101T000000
END:STANDARD
END:VTIMEZONE
BEGIN:VEVENT
DTSTART;TZID=UTC:20250225T103000
DTEND;TZID=UTC:20250225T113000
DTSTAMP:20260425T220927
CREATED:20250205T023132Z
LAST-MODIFIED:20250205T023132Z
UID:10000671-1740479400-1740483000@sageandplow.com
SUMMARY:Living Life on Purpose  w/ Heidi Janeway
DESCRIPTION:
URL:https://sageandplow.com/event/living-life-on-purpose-w-heidi-janeway-7/
LOCATION:Sage Center\, 675 S. 500 E.\, American Fork\, UT\, 84003\, United States
CATEGORIES:Homeschool and Education
ATTACH;FMTTYPE=image/jpeg:https://sageandplow.com/wp-content/uploads/2025/02/Heidi-Janeway.jpg
END:VEVENT
BEGIN:VEVENT
DTSTART;TZID=UTC:20250218T103000
DTEND;TZID=UTC:20250218T113000
DTSTAMP:20260425T220927
CREATED:20250205T023040Z
LAST-MODIFIED:20250205T023040Z
UID:10000670-1739874600-1739878200@sageandplow.com
SUMMARY:Living Life on Purpose  w/ Heidi Janeway
DESCRIPTION:
URL:https://sageandplow.com/event/living-life-on-purpose-w-heidi-janeway-6/
LOCATION:Sage Center\, 675 S. 500 E.\, American Fork\, UT\, 84003\, United States
CATEGORIES:Homeschool and Education
ATTACH;FMTTYPE=image/jpeg:https://sageandplow.com/wp-content/uploads/2025/02/Heidi-Janeway.jpg
END:VEVENT
BEGIN:VEVENT
DTSTART;TZID=UTC:20250211T103000
DTEND;TZID=UTC:20250211T113000
DTSTAMP:20260425T220927
CREATED:20250205T022725Z
LAST-MODIFIED:20250205T024156Z
UID:10000667-1739269800-1739273400@sageandplow.com
SUMMARY:Living Life on Purpose  w/ Heidi Janeway
DESCRIPTION:
URL:https://sageandplow.com/event/living-life-on-purpose-w-heidi-janeway-3/
LOCATION:Sage Center\, 675 S. 500 E.\, American Fork\, UT\, 84003\, United States
CATEGORIES:Homeschool and Education
ATTACH;FMTTYPE=image/jpeg:https://sageandplow.com/wp-content/uploads/2025/02/Heidi-Janeway.jpg
END:VEVENT
BEGIN:VEVENT
DTSTART;TZID=UTC:20250129T190000
DTEND;TZID=UTC:20250129T200000
DTSTAMP:20260425T220927
CREATED:20241210T050926Z
LAST-MODIFIED:20241217T070808Z
UID:10000530-1738177200-1738180800@sageandplow.com
SUMMARY:Living Life on Purpose  w/ Heidi Janeway
DESCRIPTION:
URL:https://sageandplow.com/event/living-intentionally-w-heidi-janeway/2025-01-29/
LOCATION:Sage Center\, 675 S. 500 E.\, American Fork\, UT\, 84003\, United States
CATEGORIES:Homeschool and Education
END:VEVENT
BEGIN:VEVENT
DTSTART;TZID=UTC:20250122T190000
DTEND;TZID=UTC:20250122T200000
DTSTAMP:20260425T220927
CREATED:20241210T050926Z
LAST-MODIFIED:20241217T070808Z
UID:10000529-1737572400-1737576000@sageandplow.com
SUMMARY:Living Life on Purpose  w/ Heidi Janeway
DESCRIPTION:
URL:https://sageandplow.com/event/living-intentionally-w-heidi-janeway/2025-01-22/
LOCATION:Sage Center\, 675 S. 500 E.\, American Fork\, UT\, 84003\, United States
CATEGORIES:Homeschool and Education
END:VEVENT
BEGIN:VEVENT
DTSTART;TZID=UTC:20250115T190000
DTEND;TZID=UTC:20250115T200000
DTSTAMP:20260425T220927
CREATED:20241210T050926Z
LAST-MODIFIED:20241217T070808Z
UID:10000528-1736967600-1736971200@sageandplow.com
SUMMARY:Living Life on Purpose  w/ Heidi Janeway
DESCRIPTION:
URL:https://sageandplow.com/event/living-intentionally-w-heidi-janeway/2025-01-15/
LOCATION:Sage Center\, 675 S. 500 E.\, American Fork\, UT\, 84003\, United States
CATEGORIES:Homeschool and Education
END:VEVENT
BEGIN:VEVENT
DTSTART;TZID=UTC:20250108T190000
DTEND;TZID=UTC:20250108T200000
DTSTAMP:20260425T220927
CREATED:20241210T050926Z
LAST-MODIFIED:20241217T070808Z
UID:10000527-1736362800-1736366400@sageandplow.com
SUMMARY:Living Life on Purpose  w/ Heidi Janeway
DESCRIPTION:
URL:https://sageandplow.com/event/living-intentionally-w-heidi-janeway/2025-01-08/
LOCATION:Sage Center\, 675 S. 500 E.\, American Fork\, UT\, 84003\, United States
CATEGORIES:Homeschool and Education
END:VEVENT
BEGIN:VEVENT
DTSTART;TZID=UTC:20250101T190000
DTEND;TZID=UTC:20250101T200000
DTSTAMP:20260425T220927
CREATED:20250205T211054Z
LAST-MODIFIED:20250205T211713Z
UID:10000531-1735758000-1735761600@sageandplow.com
SUMMARY:Living Life on Purpose  w/ Heidi Janeway
DESCRIPTION:
URL:https://sageandplow.com/event/living-intentionally-w-heidi-janeway-3/
LOCATION:Sage Center\, 675 S. 500 E.\, American Fork\, UT\, 84003\, United States
CATEGORIES:Homeschool and Education
END:VEVENT
BEGIN:VEVENT
DTSTART;TZID=UTC:20241225T190000
DTEND;TZID=UTC:20241225T200000
DTSTAMP:20260425T220927
CREATED:20250205T210026Z
LAST-MODIFIED:20250205T210321Z
UID:10000532-1735153200-1735156800@sageandplow.com
SUMMARY:Living Life on Purpose  w/ Heidi Janeway
DESCRIPTION:
URL:https://sageandplow.com/event/living-intentionally-w-heidi-janeway-2/
LOCATION:Sage Center\, 675 S. 500 E.\, American Fork\, UT\, 84003\, United States
CATEGORIES:Homeschool and Education
END:VEVENT
END:VCALENDAR