BEGIN:VCALENDAR
VERSION:2.0
PRODID:-//Sage and Plow - ECPv6.15.20//NONSGML v1.0//EN
CALSCALE:GREGORIAN
METHOD:PUBLISH
X-WR-CALNAME:Sage and Plow
X-ORIGINAL-URL:https://sageandplow.com
X-WR-CALDESC:Events for Sage and Plow
REFRESH-INTERVAL;VALUE=DURATION:PT1H
X-Robots-Tag:noindex
X-PUBLISHED-TTL:PT1H
BEGIN:VTIMEZONE
TZID:America/Denver
BEGIN:DAYLIGHT
TZOFFSETFROM:-0700
TZOFFSETTO:-0600
TZNAME:MDT
DTSTART:20240310T090000
END:DAYLIGHT
BEGIN:STANDARD
TZOFFSETFROM:-0600
TZOFFSETTO:-0700
TZNAME:MST
DTSTART:20241103T080000
END:STANDARD
BEGIN:DAYLIGHT
TZOFFSETFROM:-0700
TZOFFSETTO:-0600
TZNAME:MDT
DTSTART:20250309T090000
END:DAYLIGHT
BEGIN:STANDARD
TZOFFSETFROM:-0600
TZOFFSETTO:-0700
TZNAME:MST
DTSTART:20251102T080000
END:STANDARD
BEGIN:DAYLIGHT
TZOFFSETFROM:-0700
TZOFFSETTO:-0600
TZNAME:MDT
DTSTART:20260308T090000
END:DAYLIGHT
BEGIN:STANDARD
TZOFFSETFROM:-0600
TZOFFSETTO:-0700
TZNAME:MST
DTSTART:20261101T080000
END:STANDARD
BEGIN:DAYLIGHT
TZOFFSETFROM:-0700
TZOFFSETTO:-0600
TZNAME:MDT
DTSTART:20270314T090000
END:DAYLIGHT
BEGIN:STANDARD
TZOFFSETFROM:-0600
TZOFFSETTO:-0700
TZNAME:MST
DTSTART:20271107T080000
END:STANDARD
END:VTIMEZONE
BEGIN:VEVENT
DTSTART;TZID=America/Denver:20260328T120000
DTEND;TZID=America/Denver:20260328T130000
DTSTAMP:20260422T161634
CREATED:20250823T231124Z
LAST-MODIFIED:20250823T231124Z
UID:10001118-1774699200-1774702800@sageandplow.com
SUMMARY:Tasty Zing: Your Food Storage Flavor Edge!  Brilliant Living Us
DESCRIPTION:Tasty Zing is a meal-maker’s secret weapon and will take your meal-making to a whole new level! This is a recipe you won’t want to live without. Join us for a class that you’ll put us in your will for!
URL:https://sageandplow.com/event/tasty-zing-your-food-storage-flavor-edge-brilliant-living-us-4/
LOCATION:Sage Center Kitchen\, 675 S. 500 E.\, American Fork\, UT\, 84003\, United States
CATEGORIES:In the Kitchen,Self-Reliance Skills
ATTACH;FMTTYPE=image/jpeg:https://sageandplow.com/wp-content/uploads/2025/01/Alice-and-Chrisann.jpg
END:VEVENT
BEGIN:VEVENT
DTSTART;TZID=America/Denver:20260328T103000
DTEND;TZID=America/Denver:20260328T113000
DTSTAMP:20260422T161634
CREATED:20250823T225930Z
LAST-MODIFIED:20250823T225930Z
UID:10001116-1774693800-1774697400@sageandplow.com
SUMMARY:Tasty Zing: Your Food Storage Flavor Edge!  Brilliant Living Us
DESCRIPTION:Tasty Zing is a meal-maker’s secret weapon and will take your meal-making to a whole new level! This is a recipe you won’t want to live without. Join us for a class that you’ll put us in your will for!
URL:https://sageandplow.com/event/tasty-zing-your-food-storage-flavor-edge-brilliant-living-us-3/
LOCATION:Sage Center Kitchen\, 675 S. 500 E.\, American Fork\, UT\, 84003\, United States
CATEGORIES:In the Kitchen,Self-Reliance Skills
ATTACH;FMTTYPE=image/jpeg:https://sageandplow.com/wp-content/uploads/2025/01/Alice-and-Chrisann.jpg
END:VEVENT
BEGIN:VEVENT
DTSTART;TZID=America/Denver:20260228T120000
DTEND;TZID=America/Denver:20260228T130000
DTSTAMP:20260422T161634
CREATED:20250823T224705Z
LAST-MODIFIED:20250823T224751Z
UID:10001110-1772280000-1772283600@sageandplow.com
SUMMARY:The Kitchen That Measures Up---Brilliant Living Us!
DESCRIPTION:Learn how to create an efficient kitchen the entire family can work in\, learn how to work smarter\, not harder\, and find help and motivation for returning to the daily family meal as a means to nourish both body and soul. Join us for a class that’ll make cooking fun again\, 10:30 to 11:30am and 12:00 to 1:00pm.
URL:https://sageandplow.com/event/the-kitchen-that-measures-up-brilliant-living-us-3/
LOCATION:Sage Center Kitchen\, 675 S. 500 E.\, American Fork\, UT\, 84003\, United States
CATEGORIES:In the Kitchen,Self-Reliance Skills
ATTACH;FMTTYPE=image/jpeg:https://sageandplow.com/wp-content/uploads/2025/01/Alice-and-Chrisann.jpg
END:VEVENT
BEGIN:VEVENT
DTSTART;TZID=America/Denver:20260228T103000
DTEND;TZID=America/Denver:20260228T113000
DTSTAMP:20260422T161634
CREATED:20250823T224905Z
LAST-MODIFIED:20250823T224905Z
UID:10001111-1772274600-1772278200@sageandplow.com
SUMMARY:The Kitchen That Measures Up---Brilliant Living Us!
DESCRIPTION:Learn how to create an efficient kitchen the entire family can work in\, learn how to work smarter\, not harder\, and find help and motivation for returning to the daily family meal as a means to nourish both body and soul. Join us for a class that’ll make cooking fun again\, 10:30 to 11:30am and 12:00 to 1:00pm.
URL:https://sageandplow.com/event/the-kitchen-that-measures-up-brilliant-living-us-4/
LOCATION:Sage Center Kitchen\, 675 S. 500 E.\, American Fork\, UT\, 84003\, United States
CATEGORIES:In the Kitchen,Self-Reliance Skills
ATTACH;FMTTYPE=image/jpeg:https://sageandplow.com/wp-content/uploads/2025/01/Alice-and-Chrisann.jpg
END:VEVENT
BEGIN:VEVENT
DTSTART;TZID=America/Denver:20260131T120000
DTEND;TZID=America/Denver:20260131T130000
DTSTAMP:20260422T161634
CREATED:20250823T223500Z
LAST-MODIFIED:20250823T223500Z
UID:10001102-1769860800-1769864400@sageandplow.com
SUMMARY:BROL Days---- Your Food Storage Health Edge!
DESCRIPTION:So easy to make\, so good\, so versatile\, and so easy to store\, BROL is your food storage health edge! Come learn about and taste this product. Join us for a class in pure deliciousness\,  10:30 to 11:30am and 12:00 to 1:00pm.
URL:https://sageandplow.com/event/brol-days-your-food-storage-health-edge-3/
LOCATION:Sage Center Kitchen\, 675 S. 500 E.\, American Fork\, UT\, 84003\, United States
CATEGORIES:In the Kitchen
ATTACH;FMTTYPE=image/jpeg:https://sageandplow.com/wp-content/uploads/2025/01/Alice-and-Chrisann.jpg
END:VEVENT
BEGIN:VEVENT
DTSTART;TZID=America/Denver:20260131T103000
DTEND;TZID=America/Denver:20260131T113000
DTSTAMP:20260422T161634
CREATED:20250823T223553Z
LAST-MODIFIED:20250925T222626Z
UID:10001103-1769855400-1769859000@sageandplow.com
SUMMARY:The Brilliant Fridge--- Brilliant Living Us
DESCRIPTION:So easy to make\, so good\, so versatile\, and so easy to store\, BROL is your food storage health edge! Come learn about and taste this product. Join us for a class in pure deliciousness\,  10:30 to 11:30am and 12:00 to 1:00pm.
URL:https://sageandplow.com/event/brol-days-your-food-storage-health-edge-4/
LOCATION:Sage Center Kitchen\, 675 S. 500 E.\, American Fork\, UT\, 84003\, United States
CATEGORIES:In the Kitchen
ATTACH;FMTTYPE=image/jpeg:https://sageandplow.com/wp-content/uploads/2025/01/Alice-and-Chrisann.jpg
END:VEVENT
BEGIN:VEVENT
DTSTART;TZID=America/Denver:20260116T090000
DTEND;TZID=America/Denver:20260201T140000
DTSTAMP:20260422T161634
CREATED:20250918T031050Z
LAST-MODIFIED:20251017T231316Z
UID:10001206-1768554000-1769954400@sageandplow.com
SUMMARY:Winterim--- Carl Maeser Academy --- Private Event
DESCRIPTION:
URL:https://sageandplow.com/event/winterim-carl-maeser-academy-private-event/2026-01-16/
LOCATION:Sage Center Kitchen\, 675 S. 500 E.\, American Fork\, UT\, 84003\, United States
CATEGORIES:Homeschool and Education
ORGANIZER;CN="Robyn Ellis":MAILTO:robyn.ellis@maeserprep.org
END:VEVENT
BEGIN:VEVENT
DTSTART;TZID=America/Denver:20260115T090000
DTEND;TZID=America/Denver:20260131T140000
DTSTAMP:20260422T161634
CREATED:20250918T031050Z
LAST-MODIFIED:20251017T231316Z
UID:10001205-1768467600-1769868000@sageandplow.com
SUMMARY:Winterim--- Carl Maeser Academy --- Private Event
DESCRIPTION:
URL:https://sageandplow.com/event/winterim-carl-maeser-academy-private-event/2026-01-15/
LOCATION:Sage Center Kitchen\, 675 S. 500 E.\, American Fork\, UT\, 84003\, United States
CATEGORIES:Homeschool and Education
ORGANIZER;CN="Robyn Ellis":MAILTO:robyn.ellis@maeserprep.org
END:VEVENT
BEGIN:VEVENT
DTSTART;TZID=America/Denver:20260114T090000
DTEND;TZID=America/Denver:20260130T140000
DTSTAMP:20260422T161634
CREATED:20250918T031050Z
LAST-MODIFIED:20251017T231316Z
UID:10001204-1768381200-1769781600@sageandplow.com
SUMMARY:Winterim--- Carl Maeser Academy --- Private Event
DESCRIPTION:
URL:https://sageandplow.com/event/winterim-carl-maeser-academy-private-event/2026-01-14/
LOCATION:Sage Center Kitchen\, 675 S. 500 E.\, American Fork\, UT\, 84003\, United States
CATEGORIES:Homeschool and Education
ORGANIZER;CN="Robyn Ellis":MAILTO:robyn.ellis@maeserprep.org
END:VEVENT
BEGIN:VEVENT
DTSTART;TZID=America/Denver:20260113T090000
DTEND;TZID=America/Denver:20260129T140000
DTSTAMP:20260422T161634
CREATED:20250918T031050Z
LAST-MODIFIED:20251017T231316Z
UID:10001203-1768294800-1769695200@sageandplow.com
SUMMARY:Winterim--- Carl Maeser Academy --- Private Event
DESCRIPTION:
URL:https://sageandplow.com/event/winterim-carl-maeser-academy-private-event/2026-01-13/
LOCATION:Sage Center Kitchen\, 675 S. 500 E.\, American Fork\, UT\, 84003\, United States
CATEGORIES:Homeschool and Education
ORGANIZER;CN="Robyn Ellis":MAILTO:robyn.ellis@maeserprep.org
END:VEVENT
BEGIN:VEVENT
DTSTART;TZID=America/Denver:20260112T090000
DTEND;TZID=America/Denver:20260128T140000
DTSTAMP:20260422T161634
CREATED:20250918T031050Z
LAST-MODIFIED:20251017T231316Z
UID:10001202-1768208400-1769608800@sageandplow.com
SUMMARY:Winterim--- Carl Maeser Academy --- Private Event
DESCRIPTION:
URL:https://sageandplow.com/event/winterim-carl-maeser-academy-private-event/2026-01-12/
LOCATION:Sage Center Kitchen\, 675 S. 500 E.\, American Fork\, UT\, 84003\, United States
CATEGORIES:Homeschool and Education
ORGANIZER;CN="Robyn Ellis":MAILTO:robyn.ellis@maeserprep.org
END:VEVENT
BEGIN:VEVENT
DTSTART;TZID=America/Denver:20260109T090000
DTEND;TZID=America/Denver:20260125T140000
DTSTAMP:20260422T161634
CREATED:20250918T031050Z
LAST-MODIFIED:20251017T231316Z
UID:10001201-1767949200-1769349600@sageandplow.com
SUMMARY:Winterim--- Carl Maeser Academy --- Private Event
DESCRIPTION:
URL:https://sageandplow.com/event/winterim-carl-maeser-academy-private-event/2026-01-09/
LOCATION:Sage Center Kitchen\, 675 S. 500 E.\, American Fork\, UT\, 84003\, United States
CATEGORIES:Homeschool and Education
ORGANIZER;CN="Robyn Ellis":MAILTO:robyn.ellis@maeserprep.org
END:VEVENT
BEGIN:VEVENT
DTSTART;TZID=America/Denver:20260108T090000
DTEND;TZID=America/Denver:20260124T140000
DTSTAMP:20260422T161634
CREATED:20250918T031050Z
LAST-MODIFIED:20251017T231316Z
UID:10001200-1767862800-1769263200@sageandplow.com
SUMMARY:Winterim--- Carl Maeser Academy --- Private Event
DESCRIPTION:
URL:https://sageandplow.com/event/winterim-carl-maeser-academy-private-event/2026-01-08/
LOCATION:Sage Center Kitchen\, 675 S. 500 E.\, American Fork\, UT\, 84003\, United States
CATEGORIES:Homeschool and Education
ORGANIZER;CN="Robyn Ellis":MAILTO:robyn.ellis@maeserprep.org
END:VEVENT
BEGIN:VEVENT
DTSTART;TZID=America/Denver:20260107T090000
DTEND;TZID=America/Denver:20260123T140000
DTSTAMP:20260422T161634
CREATED:20250918T031050Z
LAST-MODIFIED:20251017T231316Z
UID:10001199-1767776400-1769176800@sageandplow.com
SUMMARY:Winterim--- Carl Maeser Academy --- Private Event
DESCRIPTION:
URL:https://sageandplow.com/event/winterim-carl-maeser-academy-private-event/2026-01-07/
LOCATION:Sage Center Kitchen\, 675 S. 500 E.\, American Fork\, UT\, 84003\, United States
CATEGORIES:Homeschool and Education
ORGANIZER;CN="Robyn Ellis":MAILTO:robyn.ellis@maeserprep.org
END:VEVENT
BEGIN:VEVENT
DTSTART;TZID=America/Denver:20260106T090000
DTEND;TZID=America/Denver:20260122T140000
DTSTAMP:20260422T161634
CREATED:20250918T031050Z
LAST-MODIFIED:20251017T231316Z
UID:10001198-1767690000-1769090400@sageandplow.com
SUMMARY:Winterim--- Carl Maeser Academy --- Private Event
DESCRIPTION:
URL:https://sageandplow.com/event/winterim-carl-maeser-academy-private-event/2026-01-06/
LOCATION:Sage Center Kitchen\, 675 S. 500 E.\, American Fork\, UT\, 84003\, United States
CATEGORIES:Homeschool and Education
ORGANIZER;CN="Robyn Ellis":MAILTO:robyn.ellis@maeserprep.org
END:VEVENT
BEGIN:VEVENT
DTSTART;TZID=America/Denver:20260105T090000
DTEND;TZID=America/Denver:20260121T140000
DTSTAMP:20260422T161634
CREATED:20250918T031050Z
LAST-MODIFIED:20251017T231316Z
UID:10001197-1767603600-1769004000@sageandplow.com
SUMMARY:Winterim--- Carl Maeser Academy --- Private Event
DESCRIPTION:
URL:https://sageandplow.com/event/winterim-carl-maeser-academy-private-event/2026-01-05/
LOCATION:Sage Center Kitchen\, 675 S. 500 E.\, American Fork\, UT\, 84003\, United States
CATEGORIES:Homeschool and Education
ORGANIZER;CN="Robyn Ellis":MAILTO:robyn.ellis@maeserprep.org
END:VEVENT
BEGIN:VEVENT
DTSTART;TZID=America/Denver:20251215T170000
DTEND;TZID=America/Denver:20251215T200000
DTSTAMP:20260422T161634
CREATED:20250822T213233Z
LAST-MODIFIED:20250822T213233Z
UID:10001098-1765818000-1765828800@sageandplow.com
SUMMARY:Stone Hollow Christmas Event
DESCRIPTION:This is a Private Event
URL:https://sageandplow.com/event/stone-hollow-christmas-event/
LOCATION:Sage Center Kitchen\, 675 S. 500 E.\, American Fork\, UT\, 84003\, United States
CATEGORIES:Events at Sage and Plow
ATTACH;FMTTYPE=image/jpeg:https://sageandplow.com/wp-content/uploads/2024/11/poinsettia-scaled.jpg
END:VEVENT
BEGIN:VEVENT
DTSTART;TZID=America/Denver:20251119T183000
DTEND;TZID=America/Denver:20251119T210000
DTSTAMP:20260422T161634
CREATED:20250918T014257Z
LAST-MODIFIED:20250918T014257Z
UID:10001133-1763577000-1763586000@sageandplow.com
SUMMARY:Paola Brown presents to The People Restored
DESCRIPTION:
URL:https://sageandplow.com/event/paola-brown-presents-to-the-people-restored/
LOCATION:Sage Center Kitchen\, 675 S. 500 E.\, American Fork\, UT\, 84003\, United States
CATEGORIES:Events at Sage and Plow
ATTACH;FMTTYPE=image/jpeg:https://sageandplow.com/wp-content/uploads/2025/06/The-People-Restored.jpeg
END:VEVENT
BEGIN:VEVENT
DTSTART;TZID=America/Denver:20251113T110000
DTEND;TZID=America/Denver:20251113T120000
DTSTAMP:20260422T161634
CREATED:20250204T020006Z
LAST-MODIFIED:20251112T180243Z
UID:10000648-1763031600-1763035200@sageandplow.com
SUMMARY:Master Freeze Drying Series:  Thanksgiving Dinner
DESCRIPTION:November 13th – Freeze Drying: Thanksgiving Dinner\nCome to this wonderful class and learn all the tips for freeze drying all your favorites from Thanksgiving Dinner! \nTaught by Daren Jensen from Wasatch Freeze Dry who is not only an expert Freeze Dryer\, but also a Chef who understands food! \nTake this opportunity to gain knowledge and insight into the world of Freeze Drying.  Ask your questions and make your freeze drying adventure more efficient and more successful! \n 
URL:https://sageandplow.com/event/master-freeze-drying-series-thanksgiving-dinner/
LOCATION:Sage Center Kitchen\, 675 S. 500 E.\, American Fork\, UT\, 84003\, United States
CATEGORIES:Self-Reliance Skills
ATTACH;FMTTYPE=image/png:https://sageandplow.com/wp-content/uploads/2024/10/daren-jensen.png
END:VEVENT
BEGIN:VEVENT
DTSTART;TZID=America/Denver:20251025T130000
DTEND;TZID=America/Denver:20251025T140000
DTSTAMP:20260422T161634
CREATED:20251021T181555Z
LAST-MODIFIED:20251021T181555Z
UID:10001208-1761397200-1761400800@sageandplow.com
SUMMARY:Brilliant BROL: the Sidekick Potatoes\, Squash and Other Veggies ﻿Can't Live Without!
DESCRIPTION:Come join the delightful Alice and Chrisann of Brilliant Living Us to learn: \n\nBenefits of BROL\nHealth benefits of squash and potatoes\nMise en place\nClean as you go\nBest practices for baking squash…\nBaking potatoes in Instant Pot\nUsing BROL both sweet and savory\n\nAlso enjoy amazing dishes\, including: \n\nSweat Meat Squash Pudding\n“Legal” Soda Pop\nSpaghetti Squash Delizioso\nVersatile Butternut Squash\nBROL and Veggie Hashbrowns\nMany Ways with Signature Soup\nApple Surprise\n\n  \nThis class is Free! We can’t wait to see you there!
URL:https://sageandplow.com/event/brilliant-brol-the-sidekick-potatoes-squash-and-other-veggies-cant-live-without-2/
LOCATION:Sage Center Kitchen\, 675 S. 500 E.\, American Fork\, UT\, 84003\, United States
ATTACH;FMTTYPE=image/jpeg:https://sageandplow.com/wp-content/uploads/2025/01/Alice-and-Chrisann.jpg
END:VEVENT
BEGIN:VEVENT
DTSTART;TZID=America/Denver:20251025T103000
DTEND;TZID=America/Denver:20251025T113000
DTSTAMP:20260422T161634
CREATED:20251021T181307Z
LAST-MODIFIED:20251021T181307Z
UID:10001207-1761388200-1761391800@sageandplow.com
SUMMARY:Brilliant BROL: the Sidekick Potatoes\, Squash and Other Veggies ﻿Can't Live Without!
DESCRIPTION:Come join the delightful Alice and Chrisann of Brilliant Living Us to learn: \n\nBenefits of BROL\nHealth benefits of squash and potatoes\nMise en place\nClean as you go\nBest practices for baking squash…\nBaking potatoes in Instant Pot\nUsing BROL both sweet and savory\n\nAlso enjoy amazing dishes\, including: \n\nSweat Meat Squash Pudding\n“Legal” Soda Pop\nSpaghetti Squash Delizioso\nVersatile Butternut Squash\nBROL and Veggie Hashbrowns\nMany Ways with Signature Soup\nApple Surprise\n\n  \nThis class is Free! We can’t wait to see you there!
URL:https://sageandplow.com/event/brilliant-brol-the-sidekick-potatoes-squash-and-other-veggies-cant-live-without/
LOCATION:Sage Center Kitchen\, 675 S. 500 E.\, American Fork\, UT\, 84003\, United States
ATTACH;FMTTYPE=image/jpeg:https://sageandplow.com/wp-content/uploads/2025/01/Alice-and-Chrisann.jpg
END:VEVENT
BEGIN:VEVENT
DTSTART;TZID=America/Denver:20251009T110000
DTEND;TZID=America/Denver:20251009T120000
DTSTAMP:20260422T161634
CREATED:20250204T184615Z
LAST-MODIFIED:20250924T182416Z
UID:10000652-1760007600-1760011200@sageandplow.com
SUMMARY:Master Freeze Drying Series:  Desserts\, Candy and other Sweets
DESCRIPTION:October 9th – Freeze Dying: Deserts candy and other sweets.\nGet ready for the holiday season by learning how to freeze-dry your favorite candies\, desserts\, and sweet treats! This class covers techniques for preserving holiday confections\, from chocolates to festive baked goods\, while enhancing texture and flavor. Participants will sample a variety of freeze-dried sweets and discover creative ways to use them for gifts\, stocking stuffers\, and holiday celebrations. \nTaught by Daren Jensen from Wasatch Freeze Dry who is not only an expert Freeze Dryer\, but also a Chef who understands food! \nTake this opportunity to gain knowledge and insight into the world of Freeze Drying.  Ask your questions and make your freeze drying adventure more efficient and more successful! \n 
URL:https://sageandplow.com/event/master-freeze-drying-series-desserts-candy-and-other-sweets-3/
LOCATION:Sage Center Kitchen\, 675 S. 500 E.\, American Fork\, UT\, 84003\, United States
CATEGORIES:Self-Reliance Skills
ATTACH;FMTTYPE=image/png:https://sageandplow.com/wp-content/uploads/2024/10/daren-jensen.png
END:VEVENT
BEGIN:VEVENT
DTSTART;TZID=America/Denver:20250927T120000
DTEND;TZID=America/Denver:20250927T130000
DTSTAMP:20260422T161634
CREATED:20250823T224528Z
LAST-MODIFIED:20250823T224528Z
UID:10001109-1758974400-1758978000@sageandplow.com
SUMMARY:The Kitchen That Measures Up---Brilliant Living Us!
DESCRIPTION:Learn how to create an efficient kitchen the entire family can work in\, learn how to work smarter\, not harder\, and find help and motivation for returning to the daily family meal as a means to nourish both body and soul. Join us for a class that’ll make cooking fun again\, 10:30 to 11:30am and 12:00 to 1:00pm.
URL:https://sageandplow.com/event/the-kitchen-that-measures-up-brilliant-living-us-2/
LOCATION:Sage Center Kitchen\, 675 S. 500 E.\, American Fork\, UT\, 84003\, United States
CATEGORIES:In the Kitchen,Self-Reliance Skills
ATTACH;FMTTYPE=image/jpeg:https://sageandplow.com/wp-content/uploads/2025/01/Alice-and-Chrisann.jpg
END:VEVENT
BEGIN:VEVENT
DTSTART;TZID=America/Denver:20250927T103000
DTEND;TZID=America/Denver:20250927T113000
DTSTAMP:20260422T161634
CREATED:20250823T224434Z
LAST-MODIFIED:20250823T224434Z
UID:10001108-1758969000-1758972600@sageandplow.com
SUMMARY:The Kitchen That Measures Up---Brilliant Living Us!
DESCRIPTION:Learn how to create an efficient kitchen the entire family can work in\, learn how to work smarter\, not harder\, and find help and motivation for returning to the daily family meal as a means to nourish both body and soul. Join us for a class that’ll make cooking fun again\, 10:30 to 11:30am and 12:00 to 1:00pm.
URL:https://sageandplow.com/event/the-kitchen-that-measures-up-brilliant-living-us/
LOCATION:Sage Center Kitchen\, 675 S. 500 E.\, American Fork\, UT\, 84003\, United States
CATEGORIES:In the Kitchen,Self-Reliance Skills
ATTACH;FMTTYPE=image/jpeg:https://sageandplow.com/wp-content/uploads/2025/01/Alice-and-Chrisann.jpg
END:VEVENT
BEGIN:VEVENT
DTSTART;TZID=America/Denver:20250926T180000
DTEND;TZID=America/Denver:20250926T210000
DTSTAMP:20260422T161634
CREATED:20250831T031652Z
LAST-MODIFIED:20250831T031907Z
UID:10001130-1758909600-1758920400@sageandplow.com
SUMMARY:Harvest Dance--- Family Leadership Academy--- Private Event
DESCRIPTION:
URL:https://sageandplow.com/event/harvest-dance-private-event/
LOCATION:Sage Center Kitchen\, 675 S. 500 E.\, American Fork\, UT\, 84003\, United States
CATEGORIES:Events at Sage and Plow,Homeschool and Education
ATTACH;FMTTYPE=image/jpeg:https://sageandplow.com/wp-content/uploads/2025/08/IMG_4956.jpeg
END:VEVENT
BEGIN:VEVENT
DTSTART;TZID=America/Denver:20250911T110000
DTEND;TZID=America/Denver:20250911T120000
DTSTAMP:20260422T161634
CREATED:20250819T211434Z
LAST-MODIFIED:20250819T211434Z
UID:10001097-1757588400-1757592000@sageandplow.com
SUMMARY:Master Freeze Drying Series: Meals and Casseroles
DESCRIPTION:September 11th – Freeze Drying: Meals and Casseroles\nLearn how to freeze-dry casseroles and complete meals for long-term storage without sacrificing taste or nutrition! This class covers meal preparation\, freeze-drying techniques\, proper storage\, and rehydration methods. Participants will sample a variety of freeze-dried meals to compare texture and flavor retention. \nTaught by Daren Jensen from Wasatch Freeze Dry who is not only an expert Freeze Dryer\, but also a Chef who understands food! \nTake this opportunity to gain knowledge and insight into the world of Freeze Drying.  Ask your questions and make your freeze drying adventure more efficient and more successful! \nFREE
URL:https://sageandplow.com/event/master-freeze-drying-series-meals-and-casseroles-3/
LOCATION:Sage Center Kitchen\, 675 S. 500 E.\, American Fork\, UT\, 84003\, United States
CATEGORIES:Self-Reliance Skills
ATTACH;FMTTYPE=image/png:https://sageandplow.com/wp-content/uploads/2024/10/daren-jensen.png
END:VEVENT
BEGIN:VEVENT
DTSTART;TZID=America/Denver:20250830T120000
DTEND;TZID=America/Denver:20250830T130000
DTSTAMP:20260422T161634
CREATED:20250823T223345Z
LAST-MODIFIED:20250823T223345Z
UID:10001101-1756555200-1756558800@sageandplow.com
SUMMARY:BROL Days---- Your Food Storage Health Edge!
DESCRIPTION:So easy to make\, so good\, so versatile\, and so easy to store\, BROL is your food storage health edge! Come learn about and taste this product. Join us for a class in pure deliciousness\,  10:30 to 11:30am and 12:00 to 1:00pm.
URL:https://sageandplow.com/event/brol-days-your-food-storage-health-edge-2/
LOCATION:Sage Center Kitchen\, 675 S. 500 E.\, American Fork\, UT\, 84003\, United States
CATEGORIES:In the Kitchen
ATTACH;FMTTYPE=image/jpeg:https://sageandplow.com/wp-content/uploads/2025/01/Alice-and-Chrisann.jpg
END:VEVENT
BEGIN:VEVENT
DTSTART;TZID=America/Denver:20250830T103000
DTEND;TZID=America/Denver:20250830T153000
DTSTAMP:20260422T161634
CREATED:20250703T185036Z
LAST-MODIFIED:20250703T204740Z
UID:10001072-1756549800-1756567800@sageandplow.com
SUMMARY:BROL Days at Sage and Plow with Alice Osborne and Chrisann Patch
DESCRIPTION:BROL (Barley\, Rye\, Oats\, Lentils; or the gluten-free version\, Buckwheat\, Rice\, Oats\, and Lentils) is a pulse—a powerful “health edge” for your daily diet. It promotes: \n\nheart health\nstable blood sugar\nhealthy weight\nhealthy digestion\ncancer protection\n\nBROL is nutrient dense\, versatile\, and affordable. Let us show you the many ways you can prepare it. One taste and you’re hooked—you’ll be eating it every day! \nWe will be offering two FREE classes: \n•10:30 to 11:30 am \n•12:00 to 1:00 pm \nThen\, for the rest of the day (1:30 to 3:30)\, we will be answering questions and letting people sample different BROL dishes. \n 
URL:https://sageandplow.com/event/brol-days-2-free-classes/
LOCATION:Sage Center Kitchen\, 675 S. 500 E.\, American Fork\, UT\, 84003\, United States
CATEGORIES:In the Kitchen,Self and Family Wellness
ATTACH;FMTTYPE=image/jpeg:https://sageandplow.com/wp-content/uploads/2025/01/Alice-and-Chrisann.jpg
END:VEVENT
BEGIN:VEVENT
DTSTART;TZID=America/Denver:20250830T103000
DTEND;TZID=America/Denver:20250830T113000
DTSTAMP:20260422T161634
CREATED:20250823T223246Z
LAST-MODIFIED:20250823T223246Z
UID:10001100-1756549800-1756553400@sageandplow.com
SUMMARY:BROL Days---- Your Food Storage Health Edge!
DESCRIPTION:So easy to make\, so good\, so versatile\, and so easy to store\, BROL is your food storage health edge! Come learn about and taste this product. Join us for a class in pure deliciousness\,  10:30 to 11:30am and 12:00 to 1:00pm.
URL:https://sageandplow.com/event/brol-days-your-food-storage-health-edge/
LOCATION:Sage Center Kitchen\, 675 S. 500 E.\, American Fork\, UT\, 84003\, United States
CATEGORIES:In the Kitchen
ATTACH;FMTTYPE=image/jpeg:https://sageandplow.com/wp-content/uploads/2025/01/Alice-and-Chrisann.jpg
END:VEVENT
BEGIN:VEVENT
DTSTART;TZID=America/Denver:20250816T110000
DTEND;TZID=America/Denver:20250816T123000
DTSTAMP:20260422T161634
CREATED:20250804T213010Z
LAST-MODIFIED:20250806T180537Z
UID:10001084-1755342000-1755347400@sageandplow.com
SUMMARY:Wild Plant Identification Class with Mike Wood
DESCRIPTION:Learn identification\, edibility and medicinal uses of common plants. \nCome learn what weeds you can eat. This class is an introduction to wild plants including native plants of Utah and many plants you identify as weeds. Learn how to identify them and how to use them. \nMike Wood is a self-taught wild plant expert. He has been teaching plant identification since 2010 and offers tours for hands on instruction. \nQ&A After Presentation
URL:https://sageandplow.com/event/wild-plant-identification-class-with-mike-wood/
LOCATION:Sage Center Kitchen\, 675 S. 500 E.\, American Fork\, UT\, 84003\, United States
CATEGORIES:Grid-Free Living,Self-Reliance Skills
ATTACH;FMTTYPE=image/jpeg:https://sageandplow.com/wp-content/uploads/2025/08/IMG_9213.jpg
END:VEVENT
END:VCALENDAR