BEGIN:VCALENDAR
VERSION:2.0
PRODID:-//Sage and Plow - ECPv6.15.20//NONSGML v1.0//EN
CALSCALE:GREGORIAN
METHOD:PUBLISH
X-ORIGINAL-URL:https://sageandplow.com
X-WR-CALDESC:Events for Sage and Plow
REFRESH-INTERVAL;VALUE=DURATION:PT1H
X-Robots-Tag:noindex
X-PUBLISHED-TTL:PT1H
BEGIN:VTIMEZONE
TZID:America/Denver
BEGIN:DAYLIGHT
TZOFFSETFROM:-0700
TZOFFSETTO:-0600
TZNAME:MDT
DTSTART:20240310T090000
END:DAYLIGHT
BEGIN:STANDARD
TZOFFSETFROM:-0600
TZOFFSETTO:-0700
TZNAME:MST
DTSTART:20241103T080000
END:STANDARD
BEGIN:DAYLIGHT
TZOFFSETFROM:-0700
TZOFFSETTO:-0600
TZNAME:MDT
DTSTART:20250309T090000
END:DAYLIGHT
BEGIN:STANDARD
TZOFFSETFROM:-0600
TZOFFSETTO:-0700
TZNAME:MST
DTSTART:20251102T080000
END:STANDARD
BEGIN:DAYLIGHT
TZOFFSETFROM:-0700
TZOFFSETTO:-0600
TZNAME:MDT
DTSTART:20260308T090000
END:DAYLIGHT
BEGIN:STANDARD
TZOFFSETFROM:-0600
TZOFFSETTO:-0700
TZNAME:MST
DTSTART:20261101T080000
END:STANDARD
END:VTIMEZONE
BEGIN:VTIMEZONE
TZID:UTC
BEGIN:STANDARD
TZOFFSETFROM:+0000
TZOFFSETTO:+0000
TZNAME:UTC
DTSTART:20240101T000000
END:STANDARD
END:VTIMEZONE
BEGIN:VEVENT
DTSTART;TZID=America/Denver:20250612T110000
DTEND;TZID=America/Denver:20250612T120000
DTSTAMP:20260422T191628
CREATED:20250204T015430Z
LAST-MODIFIED:20250510T194529Z
UID:10000640-1749726000-1749729600@sageandplow.com
SUMMARY:Master Freeze Drying Series:  Healthy Snacks and Treats---Free Class
DESCRIPTION:June 12th – Freeze Drying: Healthy Snacks and Treats\nFree Class! \nDitch over-processed candies and treats by learning how to freeze-dry delicious\, healthy snacks and desserts! This class covers techniques for preserving fruits\, yogurt\, homemade treats\, and more—retaining nutrients and flavor without artificial additives. Participants will sample a variety of freeze-dried goodies and discover how to create wholesome\, shelf-stable alternatives for the whole family. Perfect for health-conscious snackers and food preservation enthusiasts! \nTaught by Daren Jensen from Wasatch Freeze Dry who is not only an expert Freeze Dryer\, but also a Chef who understands food! \nTake this opportunity to gain knowledge and insight into the world of Freeze Drying.  Ask your questions and make your freeze drying adventure more efficient and more successful! \nThis is a FREE Class!  Come Join Us!
URL:https://sageandplow.com/event/master-freeze-drying-series-healthy-snacks-and-treats-2/
LOCATION:Sage Center Kitchen\, 675 S. 500 E.\, American Fork\, UT\, 84003\, United States
CATEGORIES:Self-Reliance Skills
ATTACH;FMTTYPE=image/png:https://sageandplow.com/wp-content/uploads/2024/10/daren-jensen.png
END:VEVENT
BEGIN:VEVENT
DTSTART;TZID=UTC:20250517T110000
DTEND;TZID=UTC:20250517T130000
DTSTAMP:20260422T191628
CREATED:20250117T053049Z
LAST-MODIFIED:20250514T212600Z
UID:10000592-1747479600-1747486800@sageandplow.com
SUMMARY:Our Family's Favorite Bean Recipes--- Focus on Food Storage Series
DESCRIPTION:Taught by owner of Sage and Plow\, Chirine Wadsworth! \nCome join us as we demonstrate and you sample some of our favorite bean recipes: \nThe best Hummus Dip\, ever! \nBlack Bean Salsa \nChirine’s Famous Baked Beans \nCafe Rio Style Beans \nLearn how simple it is to incorporate beans into your diet! \n 
URL:https://sageandplow.com/event/rice-and-beans-navajo-style-focus-on-food-storage-series-2/
LOCATION:Sage Center Kitchen\, 675 S. 500 E.\, American Fork\, UT\, 84003\, United States
CATEGORIES:In the Kitchen,Self-Reliance Skills
ATTACH;FMTTYPE=image/png:https://sageandplow.com/wp-content/uploads/2025/01/Chirine.jpg.png
END:VEVENT
BEGIN:VEVENT
DTSTART;TZID=UTC:20250515T180000
DTEND;TZID=UTC:20250515T190000
DTSTAMP:20260422T191628
CREATED:20250117T052934Z
LAST-MODIFIED:20250514T211816Z
UID:10000591-1747332000-1747335600@sageandplow.com
SUMMARY:Beans Navajo Style---Navajo Tacos!! --- Focus on Food Storage Series
DESCRIPTION:Anna Benally is Native American of the Navajo tribe.  She will teach us how to make authentic Navajo Tacos. . . she will also share the history behind Anasazi Beans!  Should be a fascinating class!  Please join us! \nShe loves sharing her culture with others.  Teaching about foods is one of the ways she likes to share her culture.  She’s married (53 years) and has 5 daughters.  She graduated and retired from BYU.
URL:https://sageandplow.com/event/rice-and-beans-navajo-style-focus-on-food-storage-series/
LOCATION:Sage Center Kitchen\, 675 S. 500 E.\, American Fork\, UT\, 84003\, United States
CATEGORIES:In the Kitchen,Self-Reliance Skills
ATTACH;FMTTYPE=image/jpeg:https://sageandplow.com/wp-content/uploads/2025/01/Anna-Benally.jpg
END:VEVENT
BEGIN:VEVENT
DTSTART;TZID=America/Denver:20250510T110000
DTEND;TZID=America/Denver:20250510T120000
DTSTAMP:20260422T191628
CREATED:20250204T015026Z
LAST-MODIFIED:20250506T203438Z
UID:10000637-1746874800-1746878400@sageandplow.com
SUMMARY:Master Freeze Drying Series:  Eggs and Dairy
DESCRIPTION:May 10th – Freeze Drying: Eggs and Dairy\nLearn how to successfully freeze-dry eggs\, milk\, cheese\, and other dairy products for long-term storage without losing flavor or nutrition. This class covers preparation\, freeze-drying techniques\, and storage methods to ensure high-quality results. Participants will sample freeze-dried dairy products and discover their many uses in cooking and baking. \nTaught by Daren Jensen from Wasatch Freeze Dry who is not only an expert Freeze Dryer\, but also a Chef who understands food! \nTake this opportunity to gain knowledge and insight into the world of Freeze Drying.  Ask your questions and make your freeze drying adventure more efficient and more successful! \nEach $20 Ticket admits 2 people from the same family.
URL:https://sageandplow.com/event/master-freeze-drying-series-eggs-and-dairy/
LOCATION:Sage Center Kitchen\, 675 S. 500 E.\, American Fork\, UT\, 84003\, United States
CATEGORIES:Self-Reliance Skills
ATTACH;FMTTYPE=image/png:https://sageandplow.com/wp-content/uploads/2024/10/daren-jensen.png
END:VEVENT
BEGIN:VEVENT
DTSTART;TZID=America/Denver:20250410T180000
DTEND;TZID=America/Denver:20250410T190000
DTSTAMP:20260422T191628
CREATED:20250204T014757Z
LAST-MODIFIED:20250324T222317Z
UID:10000636-1744308000-1744311600@sageandplow.com
SUMMARY:Master Freeze Drying Series:  Sage and Plow Edition
DESCRIPTION:April 10th – Freeze Drying: Sage and Plow Edition\nDiscover how to freeze-dry a wide variety of ingredients available at Sage & Plow\, from fresh produce and bulk meats to pasta and more! This class will teach you how to preserve quality foods while drastically reducing your grocery costs. Learn proper preparation\, freeze-drying techniques\, and storage tips to build a long-lasting pantry with nutritious\, cost-effective meals. Taste samples and see firsthand how freeze-dried foods retain flavor and quality! \nTaught by Daren Jensen from Wasatch Freeze Dry who is not only an expert Freeze Dryer\, but also a Chef who understands food! \nFeaturing the amazing things Sage and Plow offers that you can Freeze Dry! \nTake this opportunity to gain knowledge and insight into the world of Freeze Drying.  Ask your questions and make your freeze drying adventure more efficient and more successful! \nEach $20 Ticket admits 2 people from the same family.
URL:https://sageandplow.com/event/master-freeze-drying-series-sage-and-plow-edition-2/
LOCATION:Sage Center Kitchen\, 675 S. 500 E.\, American Fork\, UT\, 84003\, United States
CATEGORIES:Self-Reliance Skills
ATTACH;FMTTYPE=image/png:https://sageandplow.com/wp-content/uploads/2024/10/daren-jensen.png
END:VEVENT
BEGIN:VEVENT
DTSTART;TZID=America/Denver:20250410T110000
DTEND;TZID=America/Denver:20250410T120000
DTSTAMP:20260422T191628
CREATED:20250204T014725Z
LAST-MODIFIED:20250324T222456Z
UID:10000635-1744282800-1744286400@sageandplow.com
SUMMARY:Master Freeze Drying Series:  Sage and Plow Edition
DESCRIPTION:April 10th – Freeze Drying: Sage and Plow Edition\nDiscover how to freeze-dry a wide variety of ingredients available at Sage & Plow\, from fresh produce and bulk meats to pasta and more! This class will teach you how to preserve quality foods while drastically reducing your grocery costs. Learn proper preparation\, freeze-drying techniques\, and storage tips to build a long-lasting pantry with nutritious\, cost-effective meals. Taste samples and see firsthand how freeze-dried foods retain flavor and quality! \nTaught by Daren Jensen from Wasatch Freeze Dry who is not only an expert Freeze Dryer\, but also a Chef who understands food! \nFeaturing the amazing things Sage and Plow offers that you can Freeze Dry! \nTake this opportunity to gain knowledge and insight into the world of Freeze Drying.  Ask your questions and make your freeze drying adventure more efficient and more successful! \nEach $20 Ticket admits 2 people from the same family.
URL:https://sageandplow.com/event/master-freeze-drying-series-sage-and-plow-edition/
LOCATION:Sage Center Kitchen\, 675 S. 500 E.\, American Fork\, UT\, 84003\, United States
CATEGORIES:Self-Reliance Skills
ATTACH;FMTTYPE=image/png:https://sageandplow.com/wp-content/uploads/2024/10/daren-jensen.png
END:VEVENT
BEGIN:VEVENT
DTSTART;TZID=America/Denver:20250313T180000
DTEND;TZID=America/Denver:20250313T190000
DTSTAMP:20260422T191628
CREATED:20250204T013839Z
LAST-MODIFIED:20250213T000315Z
UID:10000633-1741888800-1741892400@sageandplow.com
SUMMARY:Master Freeze Drying Series:  Meals and Casseroles
DESCRIPTION:March 13th – Freeze Drying: Meals and Casseroles\nLearn how to freeze-dry casseroles and complete meals for long-term storage without sacrificing taste or nutrition! This class covers meal preparation\, freeze-drying techniques\, proper storage\, and rehydration methods. Participants will sample a variety of freeze-dried meals to compare texture and flavor retention. \nTaught by Daren Jensen from Wasatch Freeze Dry who is not only an expert Freeze Dryer\, but also a Chef who understands food! \nTake this opportunity to gain knowledge and insight into the world of Freeze Drying.  Ask your questions and make your freeze drying adventure more efficient and more successful! \nEach $20 Ticket admits 2 people from the same family.
URL:https://sageandplow.com/event/master-freeze-drying-series-meals-and-casseroles/
LOCATION:Sage Center Kitchen\, 675 S. 500 E.\, American Fork\, UT\, 84003\, United States
CATEGORIES:Self-Reliance Skills
ATTACH;FMTTYPE=image/png:https://sageandplow.com/wp-content/uploads/2024/10/daren-jensen.png
END:VEVENT
BEGIN:VEVENT
DTSTART;TZID=America/Denver:20250313T110000
DTEND;TZID=America/Denver:20250313T120000
DTSTAMP:20260422T191628
CREATED:20250204T013909Z
LAST-MODIFIED:20250213T000238Z
UID:10000634-1741863600-1741867200@sageandplow.com
SUMMARY:Master Freeze Drying Series: Meals and Casseroles
DESCRIPTION:March 13th – Freeze Drying: Meals and Casseroles\nLearn how to freeze-dry casseroles and complete meals for long-term storage without sacrificing taste or nutrition! This class covers meal preparation\, freeze-drying techniques\, proper storage\, and rehydration methods. Participants will sample a variety of freeze-dried meals to compare texture and flavor retention. \nTaught by Daren Jensen from Wasatch Freeze Dry who is not only an expert Freeze Dryer\, but also a Chef who understands food! \nTake this opportunity to gain knowledge and insight into the world of Freeze Drying.  Ask your questions and make your freeze drying adventure more efficient and more successful! \nEach $20 Ticket admits 2 people from the same family.
URL:https://sageandplow.com/event/master-freeze-drying-series-meals-and-casseroles-2/
LOCATION:Sage Center Kitchen\, 675 S. 500 E.\, American Fork\, UT\, 84003\, United States
CATEGORIES:Self-Reliance Skills
ATTACH;FMTTYPE=image/png:https://sageandplow.com/wp-content/uploads/2024/10/daren-jensen.png
END:VEVENT
BEGIN:VEVENT
DTSTART;TZID=UTC:20250222T110000
DTEND;TZID=UTC:20250222T130000
DTSTAMP:20260422T191628
CREATED:20250116T081921Z
LAST-MODIFIED:20250117T052137Z
UID:10000582-1740222000-1740229200@sageandplow.com
SUMMARY:Baking w/Grains Navajo Style--- Focus on Food Storage Series
DESCRIPTION:Anna Benally is Native American of the Navajo tribe. \nShe loves sharing her culture with others.  Teaching about foods is one of the ways she likes to share her culture.  She’s married (53 years) and has 5 daughters.  She graduated and retired from BYU.
URL:https://sageandplow.com/event/baking-w-grains-navajo-style-focus-on-food-storage-series-2/
LOCATION:Sage Center Kitchen\, 675 S. 500 E.\, American Fork\, UT\, 84003\, United States
CATEGORIES:In the Kitchen,Self-Reliance Skills
ATTACH;FMTTYPE=image/jpeg:https://sageandplow.com/wp-content/uploads/2025/01/Anna-Benally.jpg
END:VEVENT
BEGIN:VEVENT
DTSTART;TZID=UTC:20250220T180000
DTEND;TZID=UTC:20250220T200000
DTSTAMP:20260422T191628
CREATED:20250117T052404Z
LAST-MODIFIED:20250117T052404Z
UID:10000581-1740074400-1740081600@sageandplow.com
SUMMARY:Baking w/Grains Navajo Style--- Focus on Food Storage Series
DESCRIPTION:Anna Benally is Native American of the Navajo tribe. \nShe loves sharing her culture with others.  Teaching about foods is one of the ways she likes to share her culture.  She’s married (53 years) and has 5 daughters.  She graduated and retired from BYU.
URL:https://sageandplow.com/event/baking-w-grains-navajo-style-focus-on-food-storage-series-3/
LOCATION:Sage Center Kitchen\, 675 S. 500 E.\, American Fork\, UT\, 84003\, United States
CATEGORIES:In the Kitchen,Self-Reliance Skills
ATTACH;FMTTYPE=image/jpeg:https://sageandplow.com/wp-content/uploads/2025/01/Anna-Benally.jpg
END:VEVENT
BEGIN:VEVENT
DTSTART;TZID=America/Denver:20250213T180000
DTEND;TZID=America/Denver:20250213T190000
DTSTAMP:20260422T191628
CREATED:20250204T013738Z
LAST-MODIFIED:20250213T000000Z
UID:10000632-1739469600-1739473200@sageandplow.com
SUMMARY:Master Freeze Drying Series:  Protein-- Beef\, Chicken\, Pork and Fish
DESCRIPTION:Feb 13 – Freeze Drying Proteins: Beef\, Chicken\, Pork and Fish\nThis class explores the process of freeze-drying various meats and proteins to enhance shelf life while preserving flavor and nutritional value. Participants will learn proper preparation\, freeze-drying techniques\, and storage methods. The session will conclude with a taste test of different freeze-dried samples to compare texture\, flavor retention\, and rehydration quality. \nTaught by Daren Jensen from Wasatch Freeze Dry who is not only an expert Freeze Dryer\, but also a Chef who understands food! \nTake this opportunity to gain knowledge and insight into the world of Freeze Drying.  Ask your questions and make your freeze drying adventure more efficient and more successful! \nEach $20 Ticket admits 2 people from the same family.
URL:https://sageandplow.com/event/master-freeze-drying-series-protein-beef-chicken-pork-and-fish-2/
LOCATION:Sage Center Kitchen\, 675 S. 500 E.\, American Fork\, UT\, 84003\, United States
CATEGORIES:Self-Reliance Skills
ATTACH;FMTTYPE=image/png:https://sageandplow.com/wp-content/uploads/2024/10/daren-jensen.png
END:VEVENT
BEGIN:VEVENT
DTSTART;TZID=America/Denver:20250213T110000
DTEND;TZID=America/Denver:20250213T120000
DTSTAMP:20260422T191628
CREATED:20250204T013615Z
LAST-MODIFIED:20250213T000059Z
UID:10000630-1739444400-1739448000@sageandplow.com
SUMMARY:Master Freeze Drying Series:  Protein-- Beef\, Chicken\, Pork and Fish
DESCRIPTION:Feb 13 – Freeze Drying Proteins: Beef\, Chicken\, Pork and Fish\nThis class explores the process of freeze-drying various meats and proteins to enhance shelf life while preserving flavor and nutritional value. Participants will learn proper preparation\, freeze-drying techniques\, and storage methods. The session will conclude with a taste test of different freeze-dried samples to compare texture\, flavor retention\, and rehydration quality. \nTaught by Daren Jensen from Wasatch Freeze Dry who is not only an expert Freeze Dryer\, but also a Chef who understands food! \nTake this opportunity to gain knowledge and insight into the world of Freeze Drying.  Ask your questions and make your freeze drying adventure more efficient and more successful! \nEach $20 Ticket admits 2 people from the same family.
URL:https://sageandplow.com/event/master-freeze-drying-series-protein-beef-chicken-pork-and-fish/
LOCATION:Sage Center Kitchen\, 675 S. 500 E.\, American Fork\, UT\, 84003\, United States
CATEGORIES:Self-Reliance Skills
ATTACH;FMTTYPE=image/png:https://sageandplow.com/wp-content/uploads/2024/10/daren-jensen.png
END:VEVENT
END:VCALENDAR